{"text_format":"3","workbook":"xlsx","n_sheets":2,"sheets":["list","data"],"not_rendered":{"external_links":2},"read":"whole","date_system":"1900"}

{"sheet":"list","index":0,"n_rows":87,"n_cols":16,"rows_kept":87}
["№","СНИЛС","Фамилия","Имя","Отчество","Пол","Дата рождения","Участник с ОВЗ","Класс","Класс участия","Балл","Макс. Балл","Статус","Призер МЭ прошлого года","Учитель","Место работы учителя"]
[1,2,3,4,5,6,7,8,9,10,11,12,13,14,15,16]
[1,17588122808,"Закирова","Айсылу","Фидаилевна","ж",41331,"нет",4,4,33,35,"победитель","нет","Унверен Эльвина Айратовна","МБОУ \"Адымнар-Нижнекамск\""]
[2,17618856919,"Гайнутдинов","Ильдар","Ринатович","м",41367,"нет",4,4,29,35,"призер","да","Унверен Эльвина Айратовна","МБОУ \"Адымнар-Нижнекамск\""]
[3,17917059808,"Мингалиева","Фарида","Маратовна","ж",41588,"нет",4,4,28,35,"участник","нет","Унверен Эльвина Айратовна","МБОУ \"Адымнар-Нижнекамск\""]
[4,17869512734,"Мифтахова","Амира","Замилевна","ж",41550,"нет",4,4,24,35,"участник","нет","Унверен Эльвина Айратовна","МБОУ \"Адымнар-Нижнекамск\""]
[5,17655066596,"Валеева","Рената","Алексеевна","ж",41390,"нет",4,4,20,35,"участник","нет","Унверен Эльвина Айратовна","МБОУ \"Адымнар-Нижнекамск\""]
[6,17733534285,"Габдрахманов","Исмагил","Ренатович","м",41453,"нет",4,4,18,35,"участник","нет","Унверен Эльвина Айратовна","МБОУ \"Адымнар-Нижнекамск\""]
[7,17858190424,"Сибгатуллина","Алия","Ильнуровна","ж",41548,"нет",4,4,18,35,"участник","нет","Унверен Эльвина Айратовна","МБОУ \"Адымнар-Нижнекамск\""]
[8,17758923535,"Талыпов","Айдар","Динарович","м",41467,"нет",4,4,16,35,"участник","нет","Унверен Эльвина Айратовна","МБОУ \"Адымнар-Нижнекамск\""]
[9,17577347316,"Хафизова","Сюмбель","Рустамовна","ж",41330,"нет",4,4,15,35,"участник","нет","Унверен Эльвина Айратовна","МБОУ \"Адымнар-Нижнекамск\""]
[10,17588122000,"Насрутдинов","Кирам","Фанисович","м",41342,"нет",4,4,15,35,"участник","нет","Унверен Эльвина Айратовна","МБОУ \"Адымнар-Нижнекамск\""]
[11,17495717520,"Гайнутдинова","Дина","Дамировна","ж",41262,"нет",5,5,27,38,"победитель","нет","Сабитова Гульназ Ринатовна","МБОУ \"Адымнар-Нижнекамск\""]
[12,16924804697,"Бахтиева","Резеда","Наилевна","ж",40862,"нет",5,5,34,38,"призер","нет","Ялалова Зульфия Фаеловна","МБОУ \"Адымнар-Нижнекамск\""]
[13,17164172965,"Гильфанова","Амина","Ильназовна","ж",40933,"нет",5,5,29,38,"призер","нет","Ялалова Зульфия Фаеловна","МБОУ \"Адымнар-Нижнекамск\""]
[14,"17119725268","Кадыров ","Камиль","Ильшатович","м",40984,"нет",5,5,26,38,"призер","нет","Зайдуллина Энже Фаизовна ","МБОУ \"Адымнар-Нижнекамск\""]
[15,"17247649899","Бекжанова ","Сююмбике","Расуловна","ж",41068,"нет",5,5,25,38,"участник","нет","Сабитова Гульназ Ринатовна","МБОУ \"Адымнар-Нижнекамск\""]
[16,17346445178,"Авзалов","Данияр","Эдуардович","м",41130,"нет",5,5,25,38,"учатник","нет","Ялалова Зульфия Фаеловна","МБОУ \"Адымнар-Нижнекамск\""]
[17,17196447602,"Гарипов","Динар","Фанилович","м",41147,"нет",5,5,24,38,"участник","нет","Ялалова Зульфия Фаеловна","МБОУ \"Адымнар-Нижнекамск\""]
[18,17247651482,"Шарафутдинов","Камиль","Маратович","м",41061,"нет",5,5,23,38,"участник","нет","Ялалова Зульфия Фаеловна","МБОУ \"Адымнар-Нижнекамск\""]
[19,"17196445295","Шакирова","Айсылу ","Ильнаровна","ж",41027,"нет",5,5,28,38,"участник","нет","Зайдуллина Энже Фаизовна ","МБОУ \"Адымнар-Нижнекамск\""]
[20,"17258027371","Камалетдинов ","Малик","Марселович","м",41073,"нет",5,5,23,38,"участник","нет","Зайдуллина Энже Фаизовна ","МБОУ \"Адымнар-Нижнекамск\""]
[21,"16995724443","Габиев","Раян","Радикович","м",40893,"нет",5,5,29,38,"участник","нет","Зайдуллина Энже Фаизовна ","МБОУ \"Адымнар-Нижнекамск\""]
[22,"17047257565","Хазиева ","Самира","Айдаровна","ж",40945,"нет",5,5,23,38,"участник","нет","Зайдуллина Энже Фаизовна ","МБОУ \"Адымнар-Нижнекамск\""]
[23,"17371471172","Шамсутдинова","Сафина ","Ильдаровна","ж",41163,"нет",5,5,18,38,"участник","нет","Зайдуллина Энже Фаизовна ","МБОУ \"Адымнар-Нижнекамск\""]
[24,"17164170254","Набиуллин","Айгиз","Алмазович","м",41004,"нет",5,5,19,38,"участник","нет","Зайдуллина Энже Фаизовна ","МБОУ \"Адымнар-Нижнекамск\""]
[25,17272550368,"Шайхутдинова","Камиля","Ранисовна","ж",41094,"нет",5,5,24,38,"участник","нет","Сабитова Гульназ Ринатовна","МБОУ \"Адымнар-Нижнекамск\""]
[26,17340749976,"Шаехова","Нурийа","Марселевна","ж",41132,"нет",5,5,21,38,"участник","нет","Исмагилова Алина Альбиновна","МБОУ \"Адымнар-Нижнекамск\""]
[27,17461399191,"Фатыхова","Лейсан","Ленаровна","ж",40861,"нет",5,5,20,38,"участник","нет","Исмагилова Алина Альбиновна","МБОУ \"Адымнар-Нижнекамск\""]
[28,"16924806398","Хасанова","Диля","Наилевна","ж",40860,"нет",5,5,19,38,"участник","нет","Сабитова Гульназ Ринатовна","МБОУ \"Адымнар-Нижнекамск\""]
[29,"17435832383","Музипова","Аделина","Айнуровна","ж",41206,"нет",5,5,18,38,"участник","нет","Исмагилова Алина Альбиновна","МБОУ \"Адымнар-Нижнекамск\""]
[30,"17216505044","Мурадымова","Амина","Ильдаровна","ж",41053,"нет",5,5,16,38,"участник","нет","Сабитова Гульназ Ринатовна","МБОУ \"Адымнар-Нижнекамск\""]
[31,"17094150259","Яппарова","Самира","Рамилевна","ж",40964,"нет",5,5,15,38,"участник","нет","Сабитова Гульназ Ринатовна","МБОУ \"Адымнар-Нижнекамск\""]
[32,"17196442592","Сахбутдинов","Мурат","Маратович","ж",41029,"нет",5,5,14,38,"участник","нет","Сабитова Гульназ Ринатовна","МБОУ \"Адымнар-Нижнекамск\""]
[33,{"$f":"[1]list!B13","v":"16767116499"},{"$f":"[1]list!C13","v":"Асадуллина"},{"$f":"[1]list!D13","v":"Наиля"},{"$f":"[1]list!E13","v":"Фаридовна"},{"$f":"[1]list!F13","v":"ж"},{"$f":"[1]list!G13","v":40756},"нет",{"$f":"[1]list!I13","v":6},{"$f":"[1]list!J13","v":6},40,45,{"$f":"[1]list!M13","v":"победитель"},"нет","Зайдуллина Энже Фаизовна ","МБОУ \"Адымнар-Нижнекамск\""]
[34,"16395356600","Гилазутдинов ","Самат","Айратович","м",40586,"нет",6,6,36,45,"призер","нет","Зайдуллина Энже Фаизовна ","МБОУ \"Адымнар-Нижнекамск\""]
[35,"16541500646","Фархутдинов","Адиль","Ильназович","м",40647,"нет",6,6,35,45,"призер","нет","Ялалова Зульфия Фаеловна","МБОУ \"Адымнар-Нижнекамск\""]
[36,"16909437204","Низамов","Тимур","Айратович","м",40576,"нет",6,6,30,45,"участник","нет","Зайдуллина Энже Фаизовна ","МБОУ \"Адымнар-Нижнекамск\""]
[37,"16807246483","Мухамедзянова","Замира","Робертовна","ж",40779,"нет",6,6,31,45,"участник","нет","Зайдуллина Энже Фаизовна ","МБОУ \"Адымнар-Нижнекамск\""]
[38,"16395356903","Афлятунов","Амиль ","Расимович","м",40573,"нет",6,6,36,45,"участник","нет","Зайдуллина Энже Фаизовна ","МБОУ \"Адымнар-Нижнекамск\""]
[39,"16861553296","Сафиуллин","Булат","Айнурович","м",40806,"нет",6,6,37,45,"участник","нет","Зайдуллина Энже Фаизовна ","МБОУ \"Адымнар-Нижнекамск\""]
[40,"16892134802","Тазеев ","Инсаф","Ильмирович","м",40835,"нет",6,6,36,45,"участник","нет","Зайдуллина Энже Фаизовна ","МБОУ \"Адымнар-Нижнекамск\""]
[41,"16683349810","Моисеева","Аделина","Анваровна","ж",40700,"нет",6,6,37,45,"участник","нет","Зайдуллина Энже Фаизовна ","МБОУ \"Адымнар-Нижнекамск\""]
[42,"16803390773","Мавлиева ","Самира","Анисовна","ж",40762,"нет",6,6,36,45,"участник","нет","Зайдуллина Энже Фаизовна ","МБОУ \"Адымнар-Нижнекамск\""]
[43,"16720372761","Садыкова","Лейла","Айратовна","ж",40727,"нет",6,6,30,45,"участник","нет","Зайдуллина Энже Фаизовна ","МБОУ \"Адымнар-Нижнекамск\""]
[44,"15825681596","Кадырова","Камила","Руслановна","ж",40225,"нет",7,7,45,48,"победитель","нет","Ялалова Зульфия Фаеловна","МБОУ \"Адымнар-Нижнекамск\""]
[45,"16164148455","Зарипова","Ясмина","Рустемовна","ж",40395,"нет",7,7,43,48,"призер","нет","Ялалова Зульфия Фаеловна","МБОУ \"Адымнар-Нижнекамск\""]
[46,"16404514136","Султанова ","Айзиля","Ильнуровна","ж",40240,"нет",7,7,41,48,"призер","нет","Ялалова Зульфия Фаеловна","МБОУ \"Адымнар-Нижнекамск\""]
[47,{"$f":"[2]list!B6","v":17599782861},{"$f":"[2]list!C6","v":"Фазуллина"},{"$f":"[2]list!D6","v":"Илина"},{"$f":"[2]list!E6","v":"Ильнуровна"},{"$f":"[2]list!F6","v":"Ж"},{"$f":"[2]list!G6","v":40313},"нет",{"$f":"[2]list!I6","v":7},{"$f":"[2]list!J6","v":7},28,{"$f":"[2]list!L6","v":48},"участник","нет",{"$f":"[2]list!O6","v":"Ялалова Зульфия Фаеловна"},"МБОУ \"Адымнар-Нижнекамск\""]
[48,{"$f":"[2]list!B7","v":"15923420666"},{"$f":"[2]list!C7","v":"Закирова"},{"$f":"[2]list!D7","v":"Амина"},{"$f":"[2]list!E7","v":"Рамилевна"},{"$f":"[2]list!F7","v":"Ж"},{"$f":"[2]list!G7","v":40126},"нет",{"$f":"[2]list!I7","v":7},{"$f":"[2]list!J7","v":7},27,{"$f":"[2]list!L7","v":48},"участник","нет",{"$f":"[2]list!O7","v":"Ялалова Зульфия Фаеловна"},"МБОУ \"Адымнар-Нижнекамск\""]
[49,{"$f":"[2]list!B8","v":"16394855916"},{"$f":"[2]list!C8","v":"Аппаков"},{"$f":"[2]list!D8","v":"Денис"},{"$f":"[2]list!E8","v":"Васильевич"},{"$f":"[2]list!F8","v":"М"},{"$f":"[2]list!G8","v":40431},"нет",{"$f":"[2]list!I8","v":7},{"$f":"[2]list!J8","v":7},{"$f":"[2]list!K8","v":23},{"$f":"[2]list!L8","v":48},{"$f":"[2]list!M8","v":"участник"},"нет",{"$f":"[2]list!O8","v":"Ялалова Зульфия Фаеловна"},"МБОУ \"Адымнар-Нижнекамск\""]
[50,{"$f":"[2]list!B9","v":"15839296821"},{"$f":"[2]list!C9","v":"Ахметзянова"},{"$f":"[2]list!D9","v":"Алия"},{"$f":"[2]list!E9","v":"Рамилевна"},{"$f":"[2]list!F9","v":"Ж"},{"$f":"[2]list!G9","v":40239},"нет",{"$f":"[2]list!I9","v":7},{"$f":"[2]list!J9","v":7},{"$f":"[2]list!K9","v":22},{"$f":"[2]list!L9","v":48},{"$f":"[2]list!M9","v":"участник"},"нет",{"$f":"[2]list!O9","v":"Ялалова Зульфия Фаеловна"},"МБОУ \"Адымнар-Нижнекамск\""]
[51,{"$f":"[2]list!B10","v":"15927193196"},{"$f":"[2]list!C10","v":"Баязитова"},{"$f":"[2]list!D10","v":"Алия"},{"$f":"[2]list!E10","v":"Ильнуровна"},{"$f":"[2]list!F10","v":"Ж"},{"$f":"[2]list!G10","v":40273},"нет",{"$f":"[2]list!I10","v":7},{"$f":"[2]list!J10","v":7},{"$f":"[2]list!K10","v":21},{"$f":"[2]list!L10","v":48},{"$f":"[2]list!M10","v":"участник"},"нет",{"$f":"[2]list!O10","v":"Ялалова Зульфия Фаеловна"},"МБОУ \"Адымнар-Нижнекамск\""]
[52,{"$f":"[2]list!B11","v":"16084891287"},{"$f":"[2]list!C11","v":"Валиева"},{"$f":"[2]list!D11","v":"Малика"},{"$f":"[2]list!E11","v":"Айратовна"},{"$f":"[2]list!F11","v":"Ж"},{"$f":"[2]list!G11","v":40266},"нет",{"$f":"[2]list!I11","v":7},{"$f":"[2]list!J11","v":7},{"$f":"[2]list!K11","v":21},{"$f":"[2]list!L11","v":48},{"$f":"[2]list!M11","v":"участник"},"нет",{"$f":"[2]list!O11","v":"Ялалова Зульфия Фаеловна"},"МБОУ \"Адымнар-Нижнекамск\""]
[53,{"$f":"[2]list!B12","v":"15911533562"},{"$f":"[2]list!C12","v":"Викторова"},{"$f":"[2]list!D12","v":"Ирина"},{"$f":"[2]list!E12","v":"Владимировна"},{"$f":"[2]list!F12","v":"Ж"},{"$f":"[2]list!G12","v":40270},"нет",{"$f":"[2]list!I12","v":7},{"$f":"[2]list!J12","v":7},{"$f":"[2]list!K12","v":20},{"$f":"[2]list!L12","v":48},{"$f":"[2]list!M12","v":"участник"},"нет",{"$f":"[2]list!O12","v":"Ялалова Зульфия Фаеловна"},"МБОУ \"Адымнар-Нижнекамск\""]
[54,{"$f":"[2]list!B13","v":"15792573613"},{"$f":"[2]list!C13","v":"Ермакова"},{"$f":"[2]list!D13","v":"Таира"},{"$f":"[2]list!E13","v":"Артемовна"},{"$f":"[2]list!F13","v":"Ж"},{"$f":"[2]list!G13","v":40207},"нет",{"$f":"[2]list!I13","v":7},{"$f":"[2]list!J13","v":7},{"$f":"[2]list!K13","v":19},{"$f":"[2]list!L13","v":48},{"$f":"[2]list!M13","v":"участник"},"нет",{"$f":"[2]list!O13","v":"Ялалова Зульфия Фаеловна"},"МБОУ \"Адымнар-Нижнекамск\""]
[55,{"$f":"[2]list!B14","v":"16168007154"},{"$f":"[2]list!C14","v":"Зайнуллина"},{"$f":"[2]list!D14","v":"Адиля"},{"$f":"[2]list!E14","v":"Райнуровна"},{"$f":"[2]list!F14","v":"Ж"},{"$f":"[2]list!G14","v":40394},"нет",{"$f":"[2]list!I14","v":7},{"$f":"[2]list!J14","v":7},{"$f":"[2]list!K14","v":18},{"$f":"[2]list!L14","v":48},{"$f":"[2]list!M14","v":"участник"},"нет",{"$f":"[2]list!O14","v":"Ялалова Зульфия Фаеловна"},"МБОУ \"Адымнар-Нижнекамск\""]
[56,{"$f":"[2]list!B15","v":"15989610737"},{"$f":"[2]list!C15","v":"Краснова"},{"$f":"[2]list!D15","v":"Юлиана"},{"$f":"[2]list!E15","v":"Евгеньевна"},{"$f":"[2]list!F15","v":"Ж"},{"$f":"[2]list!G15","v":40316},"нет",{"$f":"[2]list!I15","v":7},{"$f":"[2]list!J15","v":7},{"$f":"[2]list!K15","v":18},{"$f":"[2]list!L15","v":48},{"$f":"[2]list!M15","v":"участник"},"нет",{"$f":"[2]list!O15","v":"Ялалова Зульфия Фаеловна"},"МБОУ \"Адымнар-Нижнекамск\""]
[57,{"$f":"[2]list!B16","v":"15744541378"},{"$f":"[2]list!C16","v":"Кузнецова"},{"$f":"[2]list!D16","v":"Ксения"},{"$f":"[2]list!E16","v":"Игоревна"},{"$f":"[2]list!F16","v":"Ж"},{"$f":"[2]list!G16","v":40193},"нет",{"$f":"[2]list!I16","v":7},{"$f":"[2]list!J16","v":7},{"$f":"[2]list!K16","v":18},{"$f":"[2]list!L16","v":48},{"$f":"[2]list!M16","v":"участник"},"нет",{"$f":"[2]list!O16","v":"Ялалова Зульфия Фаеловна"},"МБОУ \"Адымнар-Нижнекамск\""]
[58,{"$f":"[2]list!B17","v":16123712126},{"$f":"[2]list!C17","v":"Массарова"},{"$f":"[2]list!D17","v":"Амелия"},{"$f":"[2]list!E17","v":"Динаровна"},{"$f":"[2]list!F17","v":"Ж"},{"$f":"[2]list!G17","v":40337},"нет",{"$f":"[2]list!I17","v":7},{"$f":"[2]list!J17","v":7},{"$f":"[2]list!K17","v":17},{"$f":"[2]list!L17","v":48},{"$f":"[2]list!M17","v":"участник"},"нет",{"$f":"[2]list!O17","v":"Ялалова Зульфия Фаеловна"},"МБОУ \"Адымнар-Нижнекамск\""]
[59,{"$f":"[2]list!B18","v":16246927383},{"$f":"[2]list!C18","v":"Муратов"},{"$f":"[2]list!D18","v":"Рузиль"},{"$f":"[2]list!E18","v":"Римович"},{"$f":"[2]list!F18","v":"М"},{"$f":"[2]list!G18","v":40239},"нет",{"$f":"[2]list!I18","v":7},{"$f":"[2]list!J18","v":7},{"$f":"[2]list!K18","v":17},{"$f":"[2]list!L18","v":48},{"$f":"[2]list!M18","v":"участник"},"нет",{"$f":"[2]list!O18","v":"Ялалова Зульфия Фаеловна"},"МБОУ \"Адымнар-Нижнекамск\""]
[60,{"$f":"[2]list!B19","v":15944961818},{"$f":"[2]list!C19","v":"Мухутдинова"},{"$f":"[2]list!D19","v":"Диляра"},{"$f":"[2]list!E19","v":"Ильнаровна"},{"$f":"[2]list!F19","v":"Ж"},{"$f":"[2]list!G19","v":40283},"нет",{"$f":"[2]list!I19","v":7},{"$f":"[2]list!J19","v":7},{"$f":"[2]list!K19","v":16},{"$f":"[2]list!L19","v":48},{"$f":"[2]list!M19","v":"участник"},"нет",{"$f":"[2]list!O19","v":"Ялалова Зульфия Фаеловна"},"МБОУ \"Адымнар-Нижнекамск\""]
[61,{"$f":"[2]list!B20","v":17913886116},{"$f":"[2]list!C20","v":"Насибуллина"},{"$f":"[2]list!D20","v":"Софья"},{"$f":"[2]list!E20","v":"Вячеславовна"},{"$f":"[2]list!F20","v":"Ж"},{"$f":"[2]list!G20","v":40244},"нет",{"$f":"[2]list!I20","v":7},{"$f":"[2]list!J20","v":7},{"$f":"[2]list!K20","v":16},{"$f":"[2]list!L20","v":48},{"$f":"[2]list!M20","v":"участник"},"нет",{"$f":"[2]list!O20","v":"Ялалова Зульфия Фаеловна"},"МБОУ \"Адымнар-Нижнекамск\""]
[62,{"$f":"[2]list!B21","v":18201969366},{"$f":"[2]list!C21","v":"Павлова"},{"$f":"[2]list!D21","v":"Виктория"},{"$f":"[2]list!E21","v":"Валерьевна"},{"$f":"[2]list!F21","v":"Ж"},{"$f":"[2]list!G21","v":40135},"нет",{"$f":"[2]list!I21","v":7},{"$f":"[2]list!J21","v":7},{"$f":"[2]list!K21","v":14},{"$f":"[2]list!L21","v":48},{"$f":"[2]list!M21","v":"участник"},"нет",{"$f":"[2]list!O21","v":"Ялалова Зульфия Фаеловна"},"МБОУ \"Адымнар-Нижнекамск\""]
[63,{"$f":"[2]list!B22","v":17307663977},{"$f":"[2]list!C22","v":"Стадниченко"},{"$f":"[2]list!D22","v":"Милана"},{"$f":"[2]list!E22","v":"Руслановна"},{"$f":"[2]list!F22","v":"Ж"},{"$f":"[2]list!G22","v":40286},"нет",{"$f":"[2]list!I22","v":7},{"$f":"[2]list!J22","v":7},{"$f":"[2]list!K22","v":13},{"$f":"[2]list!L22","v":48},{"$f":"[2]list!M22","v":"участник"},"нет",{"$f":"[2]list!O22","v":"Ялалова Зульфия Фаеловна"},"МБОУ \"Адымнар-Нижнекамск\""]
[64,{"$f":"[2]list!B23","v":16332063837},{"$f":"[2]list!C23","v":"Тагиров"},{"$f":"[2]list!D23","v":"Алмаз"},{"$f":"[2]list!E23","v":"Ринатович"},{"$f":"[2]list!F23","v":"М"},{"$f":"[2]list!G23","v":40509},"нет",{"$f":"[2]list!I23","v":7},{"$f":"[2]list!J23","v":7},{"$f":"[2]list!K23","v":12},{"$f":"[2]list!L23","v":48},{"$f":"[2]list!M23","v":"участник"},"нет",{"$f":"[2]list!O23","v":"Ялалова Зульфия Фаеловна"},"МБОУ \"Адымнар-Нижнекамск\""]
[65,{"$f":"[2]list!B24","v":15839877639},{"$f":"[2]list!C24","v":"Таймасов"},{"$f":"[2]list!D24","v":"Тимур"},{"$f":"[2]list!E24","v":"Азатович"},{"$f":"[2]list!F24","v":"М"},{"$f":"[2]list!G24","v":40221},"нет",{"$f":"[2]list!I24","v":7},{"$f":"[2]list!J24","v":7},{"$f":"[2]list!K24","v":12},{"$f":"[2]list!L24","v":48},{"$f":"[2]list!M24","v":"участник"},"нет",{"$f":"[2]list!O24","v":"Ялалова Зульфия Фаеловна"},"МБОУ \"Адымнар-Нижнекамск\""]
[66,{"$f":"[2]list!B25","v":16191221543},{"$f":"[2]list!C25","v":"Хафизова"},{"$f":"[2]list!D25","v":"Ясмина"},{"$f":"[2]list!E25","v":"Ильгизовна"},{"$f":"[2]list!F25","v":"Ж"},{"$f":"[2]list!G25","v":40319},"нет",{"$f":"[2]list!I25","v":7},{"$f":"[2]list!J25","v":7},{"$f":"[2]list!K25","v":11},{"$f":"[2]list!L25","v":48},{"$f":"[2]list!M25","v":"участник"},"нет",{"$f":"[2]list!O25","v":"Ялалова Зульфия Фаеловна"},"МБОУ \"Адымнар-Нижнекамск\""]
[67,{"$f":"[2]list!B26","v":17336240255},{"$f":"[2]list!C26","v":"Хузин"},{"$f":"[2]list!D26","v":"Анвар"},{"$f":"[2]list!E26","v":"Алмазович"},{"$f":"[2]list!F26","v":"М"},{"$f":"[2]list!G26","v":40446},"нет",{"$f":"[2]list!I26","v":7},{"$f":"[2]list!J26","v":7},{"$f":"[2]list!K26","v":9},{"$f":"[2]list!L26","v":48},{"$f":"[2]list!M26","v":"участник"},"нет",{"$f":"[2]list!O26","v":"Ялалова Зульфия Фаеловна"},"МБОУ \"Адымнар-Нижнекамск\""]
[68,{"$f":"[2]list!B27","v":16001588122},{"$f":"[2]list!C27","v":"Шабалин"},{"$f":"[2]list!D27","v":"Анатолий"},{"$f":"[2]list!E27","v":"Владимирович"},{"$f":"[2]list!F27","v":"М"},{"$f":"[2]list!G27","v":40245},"нет",{"$f":"[2]list!I27","v":7},{"$f":"[2]list!J27","v":7},{"$f":"[2]list!K27","v":9},{"$f":"[2]list!L27","v":48},{"$f":"[2]list!M27","v":"участник"},"нет",{"$f":"[2]list!O27","v":"Ялалова Зульфия Фаеловна"},"МБОУ \"Адымнар-Нижнекамск\""]
[69,{"$f":"[2]list!B28","v":15898975165},{"$f":"[2]list!C28","v":"Шарифуллин"},{"$f":"[2]list!D28","v":"Динияр"},{"$f":"[2]list!E28","v":"Искандарович"},{"$f":"[2]list!F28","v":"М"},{"$f":"[2]list!G28","v":40224},"нет",{"$f":"[2]list!I28","v":7},{"$f":"[2]list!J28","v":7},{"$f":"[2]list!K28","v":9},{"$f":"[2]list!L28","v":48},{"$f":"[2]list!M28","v":"участник"},"нет",{"$f":"[2]list!O28","v":"Ялалова Зульфия Фаеловна"},"МБОУ \"Адымнар-Нижнекамск\""]
[70,{"$f":"[2]list!B29","v":16079772702},{"$f":"[2]list!C29","v":"Шаехова"},{"$f":"[2]list!D29","v":"Сафийа"},{"$f":"[2]list!E29","v":"Марселевна"},{"$f":"[2]list!F29","v":"Ж"},{"$f":"[2]list!G29","v":40311},"нет",{"$f":"[2]list!I29","v":7},{"$f":"[2]list!J29","v":7},{"$f":"[2]list!K29","v":9},{"$f":"[2]list!L29","v":48},{"$f":"[2]list!M29","v":"участник"},"нет",{"$f":"[2]list!O29","v":"Ялалова Зульфия Фаеловна"},"МБОУ \"Адымнар-Нижнекамск\""]
[71,"17086353883","Вакилова","Диляра","Наилевна","Ж",39968,"нет",8,8,48,48,"победитель","да","Унверен Эльвина Айратовна","МБОУ \"Адымнар-Нижнекамск\""]
[72,"15418782684","Каримова","Азалия","Рафаэлевна","ж",39864,"нет",8,8,36,48,"призер","нет","Сабитова Гульназ Ринатовна","МБОУ \"Адымнар-Нижнекамск\""]
[73,"15489041689","Гайнутдинова","Аделина","Дамировна","ж",39920,"нет",8,8,35,48,"призер","нет","Сабитова Гульназ Ринатовна","МБОУ \"Адымнар-Нижнекамск\""]
[74,"15653868303","Шарифуллина","Лейла","Анасовна","ж",40120,"нет",8,8,30,48,"участник","нет","Унверен Эльвина Айратовна","МБОУ \"Адымнар-Нижнекамск\""]
[75,"17228551572","Аглямова","Лейла","Рамисовна","ж",39828,"нет",8,8,26,48,"участник","нет","Унверен Эльвина Айратовна","МБОУ \"Адымнар-Нижнекамск\""]
[76,"15462275768","Ибрагимова","Карина","Айдаровна","ж",39890,"нет",8,8,22,48,"участник","нет","Унверен Эльвина Айратовна","МБОУ \"Адымнар-Нижнекамск\""]
[77,"17811055763","Латыпова","Алсу","Олеговна","ж",40039,"нет",8,8,20,48,"участник","нет","Унверен Эльвина Айратовна","МБОУ \"Адымнар-Нижнекамск\""]
[78,"16935891527","Зиятдинова","Аливия","Ильдусовна","ж",39954,"нет",8,8,22,48,"участник","нет","Сабитова Гульназ Ринатовна","МБОУ \"Адымнар-Нижнекамск\""]
[79,"15667981628","Вилданова","Аделия","Маратовна","ж",40092,"нет",8,8,21,48,"участник","нет","Сабитова Гульназ Ринатовна","МБОУ \"Адымнар-Нижнекамск\""]
[80,"15524738068","Шамсутдинова","Ралина","Ильдаровна","ж",39960,"нет",8,8,20,48,"участник","нет","Сабитова Гульназ Ринатовна","МБОУ \"Адымнар-Нижнекамск\""]
[81,"16415432852","Вафина","Ясмина","Ленаровна","ж",39902,"нет",8,8,17,48,"участник","нет","Сабитова Гульназ Ринатовна","МБОУ \"Адымнар-Нижнекамск\""]
[82,"16485474506","Хуснуллина","Азалия","Раилевна","ж",45155,"нет",8,8,16,48,"участник","нет","Сабитова Гульназ Ринатовна","МБОУ \"Адымнар-Нижнекамск\""]
[83,"15640833970","Насифуллина","Лия","Ильдаровна","ж",40106,"нет",8,8,14,48,"участник","нет","Сабитова Гульназ Ринатовна","МБОУ \"Адымнар-Нижнекамск\""]
[84,"15753876511","Сагирова","Чулпан","Раилевна","ж",40016,"нет",8,8,12,48,"участник","нет","Сабитова Гульназ Ринатовна","МБОУ \"Адымнар-Нижнекамск\""]
[85,"16286880003","Ганиева","Камилла","Андреевна","ж",39849,"нет",8,8,11,48,"участник","нет","Сабитова Гульназ Ринатовна","МБОУ \"Адымнар-Нижнекамск\""]

{"sheet":"data","index":1,"n_rows":25,"n_cols":6,"rows_kept":25}
[]
["Техника, технология и техническое творчество .  Ручная обработка древесины"]
["Техника, технология и техническое творчество .  Ручная обработка металла"]
["Техника, технология и техническое творчество .  Механическая обработка древесины"]
["Техника, технология и техническое творчество .  Механическая обработка металла"]
["Техника, технология и техническое творчество .  Электротехника"]
["Техника, технология и техническое творчество .  Робототехника"]
["Техника, технология и техническое творчество .  3d - моделирование и печать"]
["Техника, технология и техническое творчество .  Обработка материалов на лазерно-гравировальной машине"]
["Техника, технология и техническое творчество .  Промышленный дизайн"]
["Культура дома, дизайн и технологии .  Обработка швейного изделия или узла + моделирование швейных изделий"]
["Культура дома, дизайн и технологии .  Обработка швейного изделия или узла + моделирование швейных изделий с использованием графических редакторов"]
["Культура дома, дизайн и технологии .  Обработка швейного изделия или узла на швейно-вышивальном оборудовании + моделирование швейных изделий"]
["Культура дома, дизайн и технологии .  Обработка швейного изделия или узла на швейно-вышивальном оборудовании + моделирование швейных изделий с использованием графических редакторов"]
["Культура дома, дизайн и технологии .  Робототехника"]
["Культура дома, дизайн и технологии .  3d - моделирование и печать"]
["Культура дома, дизайн и технологии .  Обработка материалов на лазерно-гравировальной машине"]
["Культура дома, дизайн и технологии .  Промышленный дизайн"]
["Роботехника .  "]
["Информационная безопасность ."]
[]
[]
["участник"]
["призер",null,"да","да",null,"м"]
["победитель",null,null,"нет",null,"ж"]